BEGIN:VCALENDAR
VERSION:2.0
PRODID:-//Green Oakwood - ECPv6.15.20//NONSGML v1.0//EN
CALSCALE:GREGORIAN
METHOD:PUBLISH
X-WR-CALNAME:Green Oakwood
X-ORIGINAL-URL:https://greenoakwood.com
X-WR-CALDESC:Events for Green Oakwood
REFRESH-INTERVAL;VALUE=DURATION:PT1H
X-Robots-Tag:noindex
X-PUBLISHED-TTL:PT1H
BEGIN:VTIMEZONE
TZID:America/New_York
BEGIN:DAYLIGHT
TZOFFSETFROM:-0500
TZOFFSETTO:-0400
TZNAME:EDT
DTSTART:20250309T070000
END:DAYLIGHT
BEGIN:STANDARD
TZOFFSETFROM:-0400
TZOFFSETTO:-0500
TZNAME:EST
DTSTART:20251102T060000
END:STANDARD
BEGIN:DAYLIGHT
TZOFFSETFROM:-0500
TZOFFSETTO:-0400
TZNAME:EDT
DTSTART:20260308T070000
END:DAYLIGHT
BEGIN:STANDARD
TZOFFSETFROM:-0400
TZOFFSETTO:-0500
TZNAME:EST
DTSTART:20261101T060000
END:STANDARD
BEGIN:DAYLIGHT
TZOFFSETFROM:-0500
TZOFFSETTO:-0400
TZNAME:EDT
DTSTART:20270314T070000
END:DAYLIGHT
BEGIN:STANDARD
TZOFFSETFROM:-0400
TZOFFSETTO:-0500
TZNAME:EST
DTSTART:20271107T060000
END:STANDARD
END:VTIMEZONE
BEGIN:VEVENT
DTSTART;TZID=America/New_York:20260809T173000
DTEND;TZID=America/New_York:20260809T180000
DTSTAMP:20260423T175807
CREATED:20260312T093618Z
LAST-MODIFIED:20260312T093653Z
UID:4628-1786296600-1786298400@greenoakwood.com
SUMMARY:Oakwood Ice Cream Social
DESCRIPTION:Green Oakwood volunteers will be there to chat and answer your questions.
URL:https://greenoakwood.com/event/oakwood-ice-cream-social/
END:VEVENT
BEGIN:VEVENT
DTSTART;TZID=America/New_York:20261010T090000
DTEND;TZID=America/New_York:20261010T120000
DTSTAMP:20260423T175807
CREATED:20260304T012849Z
LAST-MODIFIED:20260312T093705Z
UID:4585-1791622800-1791633600@greenoakwood.com
SUMMARY:Oakwood Farmer's Market
DESCRIPTION:Come to the Green Oakwood booth to talk with our volunteers\, learn about the organization\, or discuss recycling\, native plants\, or any other topics that interests you!
URL:https://greenoakwood.com/event/oakwood-farmers-market-3/
LOCATION:Oakwood Farmer’s Market
END:VEVENT
END:VCALENDAR