BEGIN:VCALENDAR
VERSION:2.0
PRODID:-//Green Oakwood - ECPv6.15.20//NONSGML v1.0//EN
CALSCALE:GREGORIAN
METHOD:PUBLISH
X-WR-CALNAME:Green Oakwood
X-ORIGINAL-URL:https://greenoakwood.com
X-WR-CALDESC:Events for Green Oakwood
REFRESH-INTERVAL;VALUE=DURATION:PT1H
X-Robots-Tag:noindex
X-PUBLISHED-TTL:PT1H
BEGIN:VTIMEZONE
TZID:America/New_York
BEGIN:DAYLIGHT
TZOFFSETFROM:-0500
TZOFFSETTO:-0400
TZNAME:EDT
DTSTART:20240310T070000
END:DAYLIGHT
BEGIN:STANDARD
TZOFFSETFROM:-0400
TZOFFSETTO:-0500
TZNAME:EST
DTSTART:20241103T060000
END:STANDARD
BEGIN:DAYLIGHT
TZOFFSETFROM:-0500
TZOFFSETTO:-0400
TZNAME:EDT
DTSTART:20250309T070000
END:DAYLIGHT
BEGIN:STANDARD
TZOFFSETFROM:-0400
TZOFFSETTO:-0500
TZNAME:EST
DTSTART:20251102T060000
END:STANDARD
BEGIN:DAYLIGHT
TZOFFSETFROM:-0500
TZOFFSETTO:-0400
TZNAME:EDT
DTSTART:20260308T070000
END:DAYLIGHT
BEGIN:STANDARD
TZOFFSETFROM:-0400
TZOFFSETTO:-0500
TZNAME:EST
DTSTART:20261101T060000
END:STANDARD
END:VTIMEZONE
BEGIN:VEVENT
DTSTART;TZID=America/New_York:20251104T183000
DTEND;TZID=America/New_York:20251104T193000
DTSTAMP:20260423T181230
CREATED:20251102T001059Z
LAST-MODIFIED:20251102T001100Z
UID:3422-1762281000-1762284600@greenoakwood.com
SUMMARY:G.O. LOW Group Meeting
DESCRIPTION:In the Community Room
URL:https://greenoakwood.com/event/g-o-low-group-meeting/
LOCATION:Wright Memorial Public Library\, 1776 Far Hills Ave\, Dayton\, Ohio\, 45419\, United States
END:VEVENT
END:VCALENDAR