BEGIN:VCALENDAR
VERSION:2.0
PRODID:-//Green Oakwood - ECPv6.15.20//NONSGML v1.0//EN
CALSCALE:GREGORIAN
METHOD:PUBLISH
X-ORIGINAL-URL:https://greenoakwood.com
X-WR-CALDESC:Events for Green Oakwood
REFRESH-INTERVAL;VALUE=DURATION:PT1H
X-Robots-Tag:noindex
X-PUBLISHED-TTL:PT1H
BEGIN:VTIMEZONE
TZID:America/New_York
BEGIN:DAYLIGHT
TZOFFSETFROM:-0500
TZOFFSETTO:-0400
TZNAME:EDT
DTSTART:20250309T070000
END:DAYLIGHT
BEGIN:STANDARD
TZOFFSETFROM:-0400
TZOFFSETTO:-0500
TZNAME:EST
DTSTART:20251102T060000
END:STANDARD
BEGIN:DAYLIGHT
TZOFFSETFROM:-0500
TZOFFSETTO:-0400
TZNAME:EDT
DTSTART:20260308T070000
END:DAYLIGHT
BEGIN:STANDARD
TZOFFSETFROM:-0400
TZOFFSETTO:-0500
TZNAME:EST
DTSTART:20261101T060000
END:STANDARD
BEGIN:DAYLIGHT
TZOFFSETFROM:-0500
TZOFFSETTO:-0400
TZNAME:EDT
DTSTART:20270314T070000
END:DAYLIGHT
BEGIN:STANDARD
TZOFFSETFROM:-0400
TZOFFSETTO:-0500
TZNAME:EST
DTSTART:20271107T060000
END:STANDARD
END:VTIMEZONE
BEGIN:VEVENT
DTSTART;TZID=America/New_York:20260404T080000
DTEND;TZID=America/New_York:20260404T120000
DTSTAMP:20260423T193606
CREATED:20260329T191629Z
LAST-MODIFIED:20260329T191631Z
UID:4696-1775289600-1775304000@greenoakwood.com
SUMMARY:Monthly Debris Drop-Off
DESCRIPTION:The J. David Foell Public Works Center at 210 Shafor Boulevard is open on the first Saturday of every month from 8 am to noon.  All Oakwood residents may drop off yard debris and household items such as old furniture\, appliances (freon removed)\, etc.\, Grass clippings\, tires\, weekly household trash and hazardous materials will not be accepted.   Dumping is for Oakwood property owners only\, and is not open to contractors.  Proof of residency is required (e.g.\, driver’s license).  Contact the Public Works Department at (937) 298-0777 with any questions.
URL:https://greenoakwood.com/event/monthly-debris-drop-off/
LOCATION:J.D. Foell Public Works\, 210 Shafor Blvd\, Oakwood\, OH\, 45419\, United States
END:VEVENT
BEGIN:VEVENT
DTSTART;TZID=America/New_York:20260404T090000
DTEND;TZID=America/New_York:20260404T150000
DTSTAMP:20260423T193606
CREATED:20260306T031753Z
LAST-MODIFIED:20260306T031756Z
UID:4594-1775293200-1775314800@greenoakwood.com
SUMMARY:Earth Day Kick off at the 2nd Street Market
DESCRIPTION:Celebrate Earth Month with Five Rivers MetroParks\, City of Dayton and other local organizations during the Earth Dayton Kick Off event. Get resources and learn about opportunities to live a greener lifestyle all April and beyond. Plus\, meet farmers and vendors at the 2nd Street Market\, who are an important part of keeping the region’s food system more sustainable. \n\n\n\nThis event is free for all ages.
URL:https://greenoakwood.com/event/earth-day-kick-off-at-the-2nd-street-market/
LOCATION:2nd Street Market\, 600 E 2nd St\, Dayton\, Ohio\, 45402\, United States
ATTACH;FMTTYPE=image/jpeg:https://greenoakwood.com/wp-content/uploads/2026/03/634390213_1448933717019118_3525401055178735566_n.jpg
END:VEVENT
BEGIN:VEVENT
DTSTART;TZID=America/New_York:20260409T193000
DTEND;TZID=America/New_York:20260409T203000
DTSTAMP:20260423T193606
CREATED:20260222T142928Z
LAST-MODIFIED:20260312T093735Z
UID:4507-1775763000-1775766600@greenoakwood.com
SUMMARY:G.O. Committee Meeting
DESCRIPTION:The Committee meets monthly for The Board to give high level briefs to attendees on the status of the organization and current activities\, and to gather volunteer support and suggestions from the public for potential activities in the future. Before the beginning\, and after the end of the structured part of most meetings\, there will be an opportunity for socializing\, brainstorming\, or a brief on a topic of interest.
URL:https://greenoakwood.com/event/g-o-committee-meeting-2/
LOCATION:Wright Memorial Public Library\, 1776 Far Hills Ave\, Dayton\, Ohio\, 45419\, United States
ATTACH;FMTTYPE=image/webp:https://greenoakwood.com/wp-content/uploads/2025/12/GO-Recycling-meeting-scaled.webp
END:VEVENT
BEGIN:VEVENT
DTSTART;TZID=America/New_York:20260418T000000
DTEND;TZID=America/New_York:20260418T235959
DTSTAMP:20260423T193606
CREATED:20260222T141123Z
LAST-MODIFIED:20260222T143737Z
UID:4480-1776470400-1776556799@greenoakwood.com
SUMMARY:Harzardous Waste Pickup
DESCRIPTION:Oakwood residents can request a free pickup through the Oakwood Rotary Club.  The Rotary Club offers a program every three months in which volunteer Rotarians travel throughout the community to collect and dispose of hazardous waste. To schedule a pickup\, please call (937) 296-5155. While the service is free\, the Oakwood Rotary Club accepts donations to support club service projects and grants.
URL:https://greenoakwood.com/event/harzardous-waste-pickup/
LOCATION:OH
END:VEVENT
BEGIN:VEVENT
DTSTART;TZID=America/New_York:20260418T090000
DTEND;TZID=America/New_York:20260418T130000
DTSTAMP:20260423T193606
CREATED:20260222T154447Z
LAST-MODIFIED:20260406T121311Z
UID:4526-1776502800-1776517200@greenoakwood.com
SUMMARY:Styrofoam Collection
DESCRIPTION:The next Montgomery County ‘Styrofoam’ recycling event is on Saturday April 18th from 9 a.m. to 1 p.m. in The Rose Music Center parking lot\, 6800 Executive Blvd\, Huber Heights.  \n\n\n\nGreen Oakwood volunteers will be accepting styrofoam from Oakwood residents at Foell Public Works (the recycling and green waste drop area on Shafor Blvd) and shuttling it to the county event. Please DO NOT leave any Styrofoam outside of these times\, as it is not collected\, nor stored\, and presents a litter hazard to neighboring roads and residents. \n\n\n\nACCEPTABLE:  \n\n\n\n\nStyrofoam peanuts (in sealed bag)\, \n\n\n\nAny white or colored Styrofoam (NOT black)\, \n\n\n\nCLEAN Styrofoam food containers\, trays\, dishes\, cups and egg cartons. \n\n\n\n\nNOT ACCEPTABLE: \n\n\n\n\nBlack Styrofoam\,\n\n\n\nEPS (expanded polyethylene) foam that squashes\n\n\n\nFood containers with VISIBLE food contamination\,\n\n\n\nCorn starch foam (if it dissolves in water it is not Styrofoam) – please dissolve or compost this\n\n\n\nEPE (Expanded Polyethylene) foam which is ‘squishable’)\,\n\n\n\nFilm-like foam. \n\n\n\n\nDue to limited volunteer availability\, you may be asked to provide proof of Oakwood address\, and residents with large quantities may be invited to go direct to the county location. County receivers will be checking for food contamination and correct product\, and may refuse to receive; consequently Green Oakwood volunteers may do so too. Eco Development in Mason processes the Styrofoam for recycling into items such as insulation and buoyancy aids and is available 24/7 if you miss this event.  \n\n\n\nThank you for helping to reduce landfill and City of Oakwood waste disposal costs.
URL:https://greenoakwood.com/event/styrofoam-collection/
LOCATION:Rose Music Center\, 6800 Executive Blvd\, Huber Heights\, Ohio\, 45424\, United States
END:VEVENT
BEGIN:VEVENT
DTSTART;TZID=America/New_York:20260419T153000
DTEND;TZID=America/New_York:20260419T160000
DTSTAMP:20260423T193606
CREATED:20260222T141123Z
LAST-MODIFIED:20260329T190847Z
UID:4481-1776612600-1776614400@greenoakwood.com
SUMMARY:America 250 Tree Planting
DESCRIPTION:Join the Oakwood City Council\, Green Oakwood\, and the Oakwood Historical Society as we plant up to 3 native/heritage apple trees (donated by Green Oakwood). We are commemorating Johnny Appleseed’s activities in the early frontier years of Ohio. \n\n\n\nAt the West Lawn of Long-Romspert Homestead (1947 Far Hills Ave\, Dayton\, OH 45419)
URL:https://greenoakwood.com/event/america-250-tree-planting/
LOCATION:OH
END:VEVENT
BEGIN:VEVENT
DTSTART;TZID=America/New_York:20260422T000000
DTEND;TZID=America/New_York:20260422T235959
DTSTAMP:20260423T193606
CREATED:20260222T141123Z
LAST-MODIFIED:20260222T143846Z
UID:4482-1776816000-1776902399@greenoakwood.com
SUMMARY:Earth Day
DESCRIPTION:
URL:https://greenoakwood.com/event/earth-day/
LOCATION:OH
END:VEVENT
BEGIN:VEVENT
DTSTART;TZID=America/New_York:20260424T000000
DTEND;TZID=America/New_York:20260424T235959
DTSTAMP:20260423T193606
CREATED:20260222T141123Z
LAST-MODIFIED:20260222T143855Z
UID:4483-1776988800-1777075199@greenoakwood.com
SUMMARY:Arbor Day
DESCRIPTION:
URL:https://greenoakwood.com/event/arbor-day/
LOCATION:OH
END:VEVENT
BEGIN:VEVENT
DTSTART;TZID=America/New_York:20260428T190000
DTEND;TZID=America/New_York:20260428T200000
DTSTAMP:20260423T193606
CREATED:20260222T141124Z
LAST-MODIFIED:20260329T191307Z
UID:4487-1777402800-1777406400@greenoakwood.com
SUMMARY:Waste-Free Dayton
DESCRIPTION:And event by the Wright Memorial Public Library.  \nLearn how to reduce your waste and consumption with Waste-Free Dayton! \nCurious about what a waste-free lifestyle would look like living here in the Dayton metro area? Waste-Free Dayton is a local nonprofit organization dedicated to a healthier and more sustainable future. Join us to learn the basics of getting started with reducing waste in your life! \nPresented in partnership with Green Oakwood.
URL:https://greenoakwood.com/event/waste-free-dayton/
LOCATION:Wright Memorial Public Library\, 1776 Far Hills Ave\, Dayton\, Ohio\, 45419\, United States
END:VEVENT
BEGIN:VEVENT
DTSTART;TZID=America/New_York:20260516T000000
DTEND;TZID=America/New_York:20260516T235959
DTSTAMP:20260423T193606
CREATED:20260222T141123Z
LAST-MODIFIED:20260410T094117Z
UID:4484-1778889600-1778975999@greenoakwood.com
SUMMARY:That Day In May
DESCRIPTION:Held every year on the third Saturday in May\, TDIM brings together neighbors\, families\, and friends for a day packed with fun\, tradition\, and purpose. \n\n\n\nSince 1988\, proceeds from TDIM have helped the Oakwood Rotary Foundation contribute $900\,000+ to local nonprofits\, schools\, and community initiatives across the Miami Valley. Your participation and support directly fuel these efforts\, helping us make a lasting impact year after year! \n\n\n\nCome to the Green Oakwood booth to talk with our volunteers\, learn about the organization\, or discuss recycling\, native plants\, or any other topics that interests you!
URL:https://greenoakwood.com/event/that-day-in-may/
LOCATION:Oakwood High School\, 1200 Far Hills Ave\, Oakwood\, Ohio\, 45419\, United States
END:VEVENT
BEGIN:VEVENT
DTSTART;TZID=America/New_York:20260620T090000
DTEND;TZID=America/New_York:20260620T120000
DTSTAMP:20260423T193606
CREATED:20260304T012358Z
LAST-MODIFIED:20260312T093641Z
UID:4579-1781946000-1781956800@greenoakwood.com
SUMMARY:Oakwood Farmer's Market
DESCRIPTION:Come to the Green Oakwood booth to talk with our volunteers\, learn about the organization\, or discuss recycling\, native plants\, or any other topics that interests you!
URL:https://greenoakwood.com/event/oakwood-farmers-market/
LOCATION:OH
END:VEVENT
BEGIN:VEVENT
DTSTART;TZID=America/New_York:20260718T090000
DTEND;TZID=America/New_York:20260718T120000
DTSTAMP:20260423T193606
CREATED:20260304T012555Z
LAST-MODIFIED:20260312T093759Z
UID:4582-1784365200-1784376000@greenoakwood.com
SUMMARY:Oakwood Farmer's Market
DESCRIPTION:Come to the Green Oakwood booth to talk with our volunteers\, learn about the organization\, or discuss recycling\, native plants\, or any other topics that interests you!
URL:https://greenoakwood.com/event/oakwood-farmers-market-2/
LOCATION:Oakwood Farmer’s Market
END:VEVENT
BEGIN:VEVENT
DTSTART;TZID=America/New_York:20260809T173000
DTEND;TZID=America/New_York:20260809T180000
DTSTAMP:20260423T193606
CREATED:20260312T093618Z
LAST-MODIFIED:20260312T093653Z
UID:4628-1786296600-1786298400@greenoakwood.com
SUMMARY:Oakwood Ice Cream Social
DESCRIPTION:Green Oakwood volunteers will be there to chat and answer your questions.
URL:https://greenoakwood.com/event/oakwood-ice-cream-social/
LOCATION:OH
END:VEVENT
BEGIN:VEVENT
DTSTART;TZID=America/New_York:20261010T090000
DTEND;TZID=America/New_York:20261010T120000
DTSTAMP:20260423T193606
CREATED:20260304T012849Z
LAST-MODIFIED:20260312T093705Z
UID:4585-1791622800-1791633600@greenoakwood.com
SUMMARY:Oakwood Farmer's Market
DESCRIPTION:Come to the Green Oakwood booth to talk with our volunteers\, learn about the organization\, or discuss recycling\, native plants\, or any other topics that interests you!
URL:https://greenoakwood.com/event/oakwood-farmers-market-3/
LOCATION:Oakwood Farmer’s Market
END:VEVENT
END:VCALENDAR