BEGIN:VCALENDAR
VERSION:2.0
PRODID:-//Green Oakwood - ECPv6.15.20//NONSGML v1.0//EN
CALSCALE:GREGORIAN
METHOD:PUBLISH
X-WR-CALNAME:Green Oakwood
X-ORIGINAL-URL:https://greenoakwood.com
X-WR-CALDESC:Events for Green Oakwood
REFRESH-INTERVAL;VALUE=DURATION:PT1H
X-Robots-Tag:noindex
X-PUBLISHED-TTL:PT1H
BEGIN:VTIMEZONE
TZID:America/New_York
BEGIN:DAYLIGHT
TZOFFSETFROM:-0500
TZOFFSETTO:-0400
TZNAME:EDT
DTSTART:20250309T070000
END:DAYLIGHT
BEGIN:STANDARD
TZOFFSETFROM:-0400
TZOFFSETTO:-0500
TZNAME:EST
DTSTART:20251102T060000
END:STANDARD
BEGIN:DAYLIGHT
TZOFFSETFROM:-0500
TZOFFSETTO:-0400
TZNAME:EDT
DTSTART:20260308T070000
END:DAYLIGHT
BEGIN:STANDARD
TZOFFSETFROM:-0400
TZOFFSETTO:-0500
TZNAME:EST
DTSTART:20261101T060000
END:STANDARD
BEGIN:DAYLIGHT
TZOFFSETFROM:-0500
TZOFFSETTO:-0400
TZNAME:EDT
DTSTART:20270314T070000
END:DAYLIGHT
BEGIN:STANDARD
TZOFFSETFROM:-0400
TZOFFSETTO:-0500
TZNAME:EST
DTSTART:20271107T060000
END:STANDARD
END:VTIMEZONE
BEGIN:VEVENT
DTSTART;TZID=America/New_York:20260312T193000
DTEND;TZID=America/New_York:20260312T203000
DTSTAMP:20260423T142524
CREATED:20260222T141124Z
LAST-MODIFIED:20260222T143232Z
UID:4486-1773343800-1773347400@greenoakwood.com
SUMMARY:G.O. Committee Meeting
DESCRIPTION:The Committee meets monthly for The Board to give high level briefs to attendees on the status of the organization and current activities\, and to gather volunteer support and suggestions from the public for potential activities in the future. Before the beginning\, and after the end of the structured part of most meetings\, there will be an opportunity for socializing\, brainstorming\, or a brief on a topic of interest.
URL:https://greenoakwood.com/event/g-o-committee-meeting/
LOCATION:Wright Memorial Public Library\, 1776 Far Hills Ave\, Dayton\, Ohio\, 45419\, United States
ATTACH;FMTTYPE=image/webp:https://greenoakwood.com/wp-content/uploads/2025/12/GO-Recycling-meeting-scaled.webp
END:VEVENT
END:VCALENDAR