BEGIN:VCALENDAR
VERSION:2.0
PRODID:-//Green Oakwood - ECPv6.15.20//NONSGML v1.0//EN
CALSCALE:GREGORIAN
METHOD:PUBLISH
X-WR-CALNAME:Green Oakwood
X-ORIGINAL-URL:https://greenoakwood.com
X-WR-CALDESC:Events for Green Oakwood
REFRESH-INTERVAL;VALUE=DURATION:PT1H
X-Robots-Tag:noindex
X-PUBLISHED-TTL:PT1H
BEGIN:VTIMEZONE
TZID:America/New_York
BEGIN:DAYLIGHT
TZOFFSETFROM:-0500
TZOFFSETTO:-0400
TZNAME:EDT
DTSTART:20240310T070000
END:DAYLIGHT
BEGIN:STANDARD
TZOFFSETFROM:-0400
TZOFFSETTO:-0500
TZNAME:EST
DTSTART:20241103T060000
END:STANDARD
BEGIN:DAYLIGHT
TZOFFSETFROM:-0500
TZOFFSETTO:-0400
TZNAME:EDT
DTSTART:20250309T070000
END:DAYLIGHT
BEGIN:STANDARD
TZOFFSETFROM:-0400
TZOFFSETTO:-0500
TZNAME:EST
DTSTART:20251102T060000
END:STANDARD
BEGIN:DAYLIGHT
TZOFFSETFROM:-0500
TZOFFSETTO:-0400
TZNAME:EDT
DTSTART:20260308T070000
END:DAYLIGHT
BEGIN:STANDARD
TZOFFSETFROM:-0400
TZOFFSETTO:-0500
TZNAME:EST
DTSTART:20261101T060000
END:STANDARD
END:VTIMEZONE
BEGIN:VEVENT
DTSTART;TZID=America/New_York:20251209T180000
DTEND;TZID=America/New_York:20251209T190000
DTSTAMP:20260423T193038
CREATED:20251130T170217Z
LAST-MODIFIED:20251130T170217Z
UID:3601-1765303200-1765306800@greenoakwood.com
SUMMARY:Turn That Patch Into a Plan
DESCRIPTION:Hosted by Wild Ones and Plan it Wild.
URL:https://greenoakwood.com/event/turn-that-patch-into-a-plan/
LOCATION:Online
ATTACH;FMTTYPE=image/webp:https://greenoakwood.com/wp-content/uploads/2025/11/405375730_24528422103438532_6194116881198774572_n.webp
END:VEVENT
END:VCALENDAR